Workbook
Name Print_Area_Formula: OFFSET('2. ME & Service Provider'!$A$7,0,0,dropdowns_hidden!$B$18,dropdowns_hidden!$B$19)
Name Print_Area_Formula: OFFSET('3. Producer'!$A$7,0,0,dropdowns_hidden!$B$20,dropdowns_hidden!$B$21)
Name SPNames: OFFSET('2. ME & Service Provider'!$B$7,0,0,dropdowns_hidden!$B$18)

Sheet 0. Guia
A1: v.4.1 | C1: BUSINESS PARTNER MAP - Guia
B4: a) Introdução: | C4: Esta aba serve para lhe guiar no preenchimento deste documento Business Partner Map (BPM) template v.4.1.
C5: Iniciado com a versao 3.6, o BPM é meramente uma ferrementa de coleta de dados, enquanto que o Portal 4C é o fornecedor de dados agregados e análises de parâmetros, para por exemplo auxiliar no seleção de amostras e análises de risco.
C6: Ao fazer o upload de um BPM preenchido, você verá um resumo, diagramas do fluxo de café e um mapa interativo com base nas coordenadas geográficas inseridas. | F6: Legenda
C7: Uma primeira análise será fornecida imediatamente pelo nosso sistema, desde o destaque de possíveis erros de preenchimento ou dados inconsistentes, até a verificação da plausibilidade. | F7: BPM = Business Partner Map = Mapa de Parceiros de Negócio
F8: ME = Managing Entity = Entidade Gestora
F9: BP = Business Partner = Parceiro de Negócio
B10: b) Upload do arquivo no Portal 4C: | C10: Você pode carregar um BPM v4.1 preenchido no seguinte link, a qualquer momento:
C11: https://portal.4c-services.org/bpm/upload_tool
C12: Será necessário um login ao Portal 4C, basta apenas se registrar no portal (sem custo) e utilizar a ferramenta de carregamento do BPM sem restrições.
C13: Usuários do Sistema 4C (e.g. "Responsável 4C" da ME ou auditores aprovados) tem direitos de acesso adicionais ao Portal 4C, permitindo-lhes visualizar análises automáticas mais extensas, dependendo do nível de acesso do usuário e o contexto de upload do arquivo (e.g. comparar um novo BPM com um BPM previamente aprovado de alguma auditoria anterior).
C14: Para ilustrar a funcionalidade do upload de BPMs, preparamos um exemplo. Como referência, o arquivo de BPM original pode ser baixado da seguinte página:
C15: https://portal.4c-services.org/bpm/view/example_bpm
B18: c) Estrutura do Arquivo: | C18: O conteúdo de um BPM define uma Unidade 4C através de seus BPs.
C19: Dados da ME e Prestadores de Serviço (Processadores, Traders, Armazéns) são inseridos na aba número 2.
C20: Dados dos Produtores e seus talhões de café são inseridos na aba número 3.
B23: d) 1. Dados Gerais: | C23: A aba número 1 permite ao usuário registrar o contexto do preenchimento do BPM, portanto é possível nesta aba entender sob quais circunstâncias os dados foram coletados (e.g. quando, para qual propósito, por quem, etc.)
C24: Os dados desta aba NÃO são usados ao fazer o upload do BPM no Portal 4C, exceto a do número da Unidade 4C. Portanto o preenchimento é opcional, exceto o campo de número da Unidade 4C, caso tenha. Recomendamos também pelo menos inserir a data em que o documento foi preenchido.
C25: Caso esta aba seja preenchida, discrepâncias com dados em nosso banco de dados serão mostrado ao carregar o BPM no Portal 4C, porém não será requrida a correção.
B28: e) 2. ME & Service Provider: | C28: Importante: A primeira linha é reservada para a ME, que por predefinição não é um Prestador de Serviço.
C29: Se uma ME atua também como Prestador de Serviço, favor inserir a mesma numa das linhas para Prestadores de Serviço incluindo os dados pertinentes e marcando com um "x" os serviços que ela presta à Unidade 4C.
C30: Todas as columnas são de preenchimento obrigatório. Exceção à isso são as células pintadas de cor cinza na linha da ME.
C31: Um único Prestador de Serviço pode prestar múltiplos serviços (e.g. um trader que também possui armazém).
C32: Se uma mesma empresa tem diferentes operações em múltiplos locais, inclua cada localização em uma linha separada (Nome e Identificação Nacional devem ser idênticos).
B33: Funções Implícitas de Prestadores de Serviço: | C33: Consideramos que é implícito que um processador pós colheita também faça a armazenagem do café. Portanto, para Prestadores de Serviço com a função de processador, não há a necessidade marcar também a função de armazenagem. Marque um "x" na coluna de "Armazenagem" somente para aquelas empresas que fazem puramente a operação de armazenagem (que não fazem nenhum benefício pós colheita).
C34: Também é implícito que Produtores vendem seu próprio café, portanto não há a necessidade de listar cada Produtor na aba de Prestador de Serviço e marcar cada um com a função de "Trader", a não ser que exista algum Produtor que de fato presta o serviço de comercialização à outros Produtores dentro da Unidade 4C.
B36: f) 3. Produtor: | C36: Todas as columnas são de preenchimento obrigatório. Exceção à isso são as células pintadas de cor cinza, uma vez que elas são automaticamente calculadas.
C37: Se um mesmo Produtor tiver várias propriedades (talhões de café), inclua cada propriedade em uma linha separada. Nome e Identificação Nacional devem ser idênticos em todas as linhas deste Produtor, enquanto os dados de localização (cidade, estado, coordenadas geográficas) de cada propriedade devem ser diferentes. Os dados comerciais devem se referir à cada propriedade individualmente. | D37: .
C38: Se múltiplos Produtores cultivam e gestionam a mesma propriedade e cada um emite notas fiscais de venda do café em seu próprio nome, todos eles devem constar nesta aba em uma linha separada para cada um. O nome da propriedade e dados de localização serão os mesmos em todas as linhas desta propriedade. Os dados comerciais devem ser inseridos para cada Produtor individualmente.
B40: g) 2. ME & Prestador de Serviço + 3. Produtor: Colunas de "Fluxo do Café" | C40: Para definir os fluxos do café comercial e físico dentro de uma Unidade 4C, selecione para qual Prestador de Serviço cada Parceiro de Negócio entrega e vende seu café.
C41: Por default, os nomes dos Prestadores de Serviço estarão listados no menu suspenso nas colunas de fluxo do café, mas a Identificação Nacional de cada um pode também ser inserida se for desejado.
C42: Se o destino do café for ambíguo porque um Prestador de Serviço opera em múltiplos locais, e portanto foram inseridas múltiplas linhas para um mesmo Prestador de Serviço com o mesma combinação de nome e ID, você poder usar o nome da cidade para fazer a diferenciação entre um e outro, utilizando colchetes. Veja exemplos:
B43: Examplo: | C43: Nome do Processador[Cidade_A] ou Nome do Processador[Cidade_B]
C44: Você pode definir múltiplos destinos "entrega café para" para um único Prestador de Serviço ou Produtor, desta forma:
C45: Insira vários Nomes e Identificação Nacionais na célula, utilizando ";" como um separador entre cada.
B46: Examplo: | C46: Suponhamos que você tem dois Processadores em sua Unidade 4C ("Processador_1" e "Processador_2") definidos na aba "2. ME & Prestador de Serviço" do BPM, e que alguns Produtores entregam seu café para um ou para o outro, conforme as circunstâncias.
C47: Neste caso, use o seguinte formato de preenchimento na coluna "entrega café para", para os Produtores em questão:
C48: Nome do Processador_1;Nome do Processador_2
B49: Resultados: | C49: Se o fluxo do café dentro da Unidade 4C está totalmente definido, e não há referências circulares, o Portal 4C mostrará os dois diagramas de fluxo do café, tanto o comercial como o físico, com base nas relações entre Parceiros de Negócio da Unidade 4C.
C50: No exemplo de BPM preparado por nós (veja seção b), você pode ver esta funcionalidade na prática.
B52: h) Informação Técnica: | C52: Este arquivo não contém proteção de planilha em suas abas, permitindo uma maior flixibilidade aos usuários.
C53: Importante: Para que os dados possam ser corretamente extraídos automaticamente pelo Portal 4C no upload do BPM, por favor NÃO insira nenhuma coluna a mais ou mude a ordem das colunas existentes:
C54: - Definições de colunas A até X (na aba 2. ME & Prestador de Serviço) e A até AA (na aba 3. Produtor) necessariamente devem permanecer como estão. Não alterar.
C55: - Os dados a serem preenchidos devem iniciar somente à partir da linha 7 (se aplica às duas abas, 2 e 3).
B58: i) Coordenadas Gegráficas Válidas: | C58: O Portal 4C interpreta as coordenadas geográficas inseridas, e aceita uma variedade de formatos.
C59: Se ficar em dúvida, por favor siga as instruções em nosso guia de sistemas de coordenadas geográficas no seguinte link, e utilize graus decimais:
C60: https://www.4c-services.org/wp-content/uploads/2024/01/4C-Guidelines-for-Geodata-collection-v.1.0.pdf
B62: Exemplos de Formatos | C62: Descrição
B63: -xxx,yyyyyyy | C63: graus decimais, mínimo de cinco dígitos decimais
B64: +xxx.yyyyyyy | C64: - independentemente de usar formato de "número" ou "texto" no Excel
B65: xxx.yyyyyyy° | C65: - "+" or "-" no começo é permitido, "+" é opcional
C66: - o símbolo de grau "°" é opcional
C67: - até três dítigos antes do separador decimal
C68: - tanto vírgula como ponto são aceitos como separador decimal
B69: xxx°yy'zz,aaaa" | C69: graus/minutos/segundos
B70: xxx°yy'zz" | C70: - símbolos de grau, minuto, segundo são exigidos: ° ' "
B71: -xxx°yy'zz.aaaa" | C71: - "+" or "-" no começo é permitido, "+" é opcional
B72: xxx°yy'zz,aaaa" S | C72: - até três dígitos antes do seprador decimal para grau
B73: xxx°yy'zz.aaaa" W | C73: - até dois dígitos para minutos
B74: xxx°0y'0z.aaaa" n | C74: - até dois dígitos antes do separador decimal para segundos
C75: - N/S/W/E/O é opcional --> coordenadas sul e oeste são interpretadas com um fator de -1
C76: - "O" é interpretado como Oeste. Outros formatos específicos a cada idioma NÃO são levados em consideração.
C77: - zeros no começo são permitidos somente para minutos e segundos, e.g. 12°01'02,456"
B78: xxx°yy,aaaa' | C78: degrees/minutes
C79: - igual ao acima, mas com minutos decimais e NENHUM segundo
B80: para todos os formatos | C80: espaços vazios em texto ( ) são removidos antes da checagem do formato utilizado (ainda válido: - 12° 1' 2,345 " S)
B81: Mensagem de erro potencial no Portal 4C | C81: se nenhum dos formatos acima foram reconhecidos com sucesso --> gera-se resultado "Coordenadas geográficas não batem com formato correto"
C82: se os valores podem ser extraídos, mas não estão entre -90 e 90 ou -180 e 180 para Latitude/Longitude respectivamente --> gera-se resultado "Coordenadas geográficas fora de área"

Sheet 1. General information
A1: ='0. Guia'!A1 -> v.4.1 | C1: BUSINESS PARTNER MAP - Dados Gerais
B3: Os dados desta aba NÂO são usados ao fazer o upload do BPM no Portal 4C, exceto a do número da Unidade 4C. Esta aba serve basicamente para registrar o contexto de uso deste BPM para o usuário. Para mais detalhes, consulte aba 0.Guia, seção d)
B5: Entidade Gestora (ME)
B6: Nome Legal da Empresa
B7: Nome da Pessoa de Contato
B9: Unidade 4C
B10: Nome da Unidade
B11: Número da Unidade
B12: Atividade Principal
B13: Arabica % (calculado automaticamente) | C13: =IFERROR(SUMPRODUCT(tblProducer[Total production],tblProducer[Arabica %])/SUM(tblProducer[Total production]),0) -> 0
B14: Robusta % (calculado automaticamente) | C14: =IFERROR(SUMPRODUCT(tblProducer[Total production],tblProducer[Robusta %])/SUM(tblProducer[Total production]),0) -> 0
B15: Tipo de Auditoria ou Atualização Anual
B17: Data de Preenchimento

Sheet 2. ME & Service Provider
A1: ='0. Guia'!A1 -> v.4.1 | B1: =IF('1. General information'!$C$11<>"","4C Unit: " &'1. General information'!$C$11,"") | C1: BUSINESS PARTNER MAP - ME & Prestador de Serviço
B3: NOME, IDENTIFICAÇÃO E LOCALIZAÇÃO | G3: Coordenadas Geográficas | I3: Serviços | L3: DADOS COMERCIAIS | N3: OUTROS PADRÕES DE CERTIFICAÇÃO | V3: FLUXO DO CAFÉ | X3: Só para CBs
G4: (consulte aba 0.Guia, seção i para ver formatos) | L4: Número de funcionários | N4: Marque com um "x" se for aplicável aos BPs | V4: Nome ou ID da ME ou Prestador de Serviço (consulte aba 0.Guia, seção g)
A5: Validação | B5: Nome Legal (razão social) | C5: Gênnero | D5: Número de Identificação Nacional (pessoa física = CPF pessoa jurídica = CNPJ) | E5: Cidade OU município | F5: Estado | G5: Latitude (-90 to 90) | H5: Longitude (-180 to 180) | I5: Processador pós colheita | J5: Trader | K5: Armazenagem | L5: Permanente | M5: Temporário | N5: Rainforest Alliance | O5: UTZ | P5: Fairtrade | Q5: Organic | R5: C.A.F.E. Practices | S5: Nespresso AAA | T5: Certifica Minas Café | U5: Outras Certificações | V5: Entrega café para (fluxo físico do café) | W5: Vende café para (fluxo comercial do café) | X5: Visitado e Auditado (x)
A6: Validation | B6: Legal Name | C6: Gender | D6: National Identification Number | E6: City | F6: State | G6: Latitude | H6: Longitude | I6: Post Harvest Processor | J6: Trader | K6: Storage | L6: Permanent | M6: Temporary | N6: Rainforest Alliance | O6: UTZ | P6: Fairtrade | Q6: Organic | R6: C.A.F.E. Practices | S6: Nespresso AAA | T6: Certifica Minas Café | U6: Other Certifications | V6: Delivering to | W6: Selling to | X6: Visited
A7: =IF(AND(tblServiceProvider[[#This Row],[Legal Name]]="",tblServiceProvider[[#This Row],[National Identification Number]]=""),"",IF(OR(tblServiceProvider[[#This Row],[National Identification Number]]="",tblServiceProvider[[#This Row],[City]]="",tblServiceProvider[[#This Row],[State]]="",tblServiceProvider[[#This Row],[Latitude]]="",tblServiceProvider[[#This Row],[Longitude]]="",AND(OR(COUNTA(tblServiceProvider[[#This Row],[Post Harvest Processor]:[Storage]])=0,tblServiceProvider[[#This Row],[Gender]]="",AND(tblServiceProvider[[#This Row],[Delivering to]]="",tblServiceProvider[[#This Row],[Selling to]]="")),ROW(tblServiceProvider[[#This Row],[Legal Name]])<>7,INDEX(tblServiceProvider[Legal Name],1)<>tblServiceProvider[[#This Row],[Legal Name]]),tblServiceProvider[[#This Row],[Permanent]]="",tblServiceProvider[[#This Row],[Temporary]]=""),"ERR","OK")) -> ERR | B7: *** LINHA PARA A ME *** (consulte aba 0. Guia, seção e) | C7: N/A | X7: x
A8: =IF(AND(tblServiceProvider[[#This Row],[Legal Name]]="",tblServiceProvider[[#This Row],[National Identification Number]]=""),"",IF(OR(tblServiceProvider[[#This Row],[National Identification Number]]="",tblServiceProvider[[#This Row],[City]]="",tblServiceProvider[[#This Row],[State]]="",tblServiceProvider[[#This Row],[Latitude]]="",tblServiceProvider[[#This Row],[Longitude]]="",AND(OR(COUNTA(tblServiceProvider[[#This Row],[Post Harvest Processor]:[Storage]])=0,tblServiceProvider[[#This Row],[Gender]]="",AND(tblServiceProvider[[#This Row],[Delivering to]]="",tblServiceProvider[[#This Row],[Selling to]]="")),ROW(tblServiceProvider[[#This Row],[Legal Name]])<>7,INDEX(tblServiceProvider[Legal Name],1)<>tblServiceProvider[[#This Row],[Legal Name]]),tblServiceProvider[[#This Row],[Permanent]]="",tblServiceProvider[[#This Row],[Temporary]]=""),"ERR","OK"))
A9: =IF(AND(tblServiceProvider[[#This Row],[Legal Name]]="",tblServiceProvider[[#This Row],[National Identification Number]]=""),"",IF(OR(tblServiceProvider[[#This Row],[National Identification Number]]="",tblServiceProvider[[#This Row],[City]]="",tblServiceProvider[[#This Row],[State]]="",tblServiceProvider[[#This Row],[Latitude]]="",tblServiceProvider[[#This Row],[Longitude]]="",AND(OR(COUNTA(tblServiceProvider[[#This Row],[Post Harvest Processor]:[Storage]])=0,tblServiceProvider[[#This Row],[Gender]]="",AND(tblServiceProvider[[#This Row],[Delivering to]]="",tblServiceProvider[[#This Row],[Selling to]]="")),ROW(tblServiceProvider[[#This Row],[Legal Name]])<>7,INDEX(tblServiceProvider[Legal Name],1)<>tblServiceProvider[[#This Row],[Legal Name]]),tblServiceProvider[[#This Row],[Permanent]]="",tblServiceProvider[[#This Row],[Temporary]]=""),"ERR","OK"))
A10: =IF(AND(tblServiceProvider[[#This Row],[Legal Name]]="",tblServiceProvider[[#This Row],[National Identification Number]]=""),"",IF(OR(tblServiceProvider[[#This Row],[National Identification Number]]="",tblServiceProvider[[#This Row],[City]]="",tblServiceProvider[[#This Row],[State]]="",tblServiceProvider[[#This Row],[Latitude]]="",tblServiceProvider[[#This Row],[Longitude]]="",AND(OR(COUNTA(tblServiceProvider[[#This Row],[Post Harvest Processor]:[Storage]])=0,tblServiceProvider[[#This Row],[Gender]]="",AND(tblServiceProvider[[#This Row],[Delivering to]]="",tblServiceProvider[[#This Row],[Selling to]]="")),ROW(tblServiceProvider[[#This Row],[Legal Name]])<>7,INDEX(tblServiceProvider[Legal Name],1)<>tblServiceProvider[[#This Row],[Legal Name]]),tblServiceProvider[[#This Row],[Permanent]]="",tblServiceProvider[[#This Row],[Temporary]]=""),"ERR","OK"))
A11: =IF(AND(tblServiceProvider[[#This Row],[Legal Name]]="",tblServiceProvider[[#This Row],[National Identification Number]]=""),"",IF(OR(tblServiceProvider[[#This Row],[National Identification Number]]="",tblServiceProvider[[#This Row],[City]]="",tblServiceProvider[[#This Row],[State]]="",tblServiceProvider[[#This Row],[Latitude]]="",tblServiceProvider[[#This Row],[Longitude]]="",AND(OR(COUNTA(tblServiceProvider[[#This Row],[Post Harvest Processor]:[Storage]])=0,tblServiceProvider[[#This Row],[Gender]]="",AND(tblServiceProvider[[#This Row],[Delivering to]]="",tblServiceProvider[[#This Row],[Selling to]]="")),ROW(tblServiceProvider[[#This Row],[Legal Name]])<>7,INDEX(tblServiceProvider[Legal Name],1)<>tblServiceProvider[[#This Row],[Legal Name]]),tblServiceProvider[[#This Row],[Permanent]]="",tblServiceProvider[[#This Row],[Temporary]]=""),"ERR","OK"))

Sheet 3. Producer
A1: ='0. Guia'!A1 -> v.4.1 | B1: =IF('1. General information'!$C$11<>"","4C Unit: " &'1. General information'!$C$11,"") | C1: BUSINESS PARTNER MAP - Produtor
B3: NOME, IDENTIFICAÇÃO E LOCALIZAÇÃO | H3: Coordenadas Geográficas | J3: DADOS COMERCIAIS | Q3: OUTROS PADRÕES DE CERTIFICAÇÃO | Y3: FLUXO DO CAFÉ | AA3: Só para CBs
H4: (consulte aba 0.Guia, seção i para ver formatos) | J4: Número de funcionários | L4: Produção de café dos últimos 12 meses [café verde] | Q4: Marque com um "x" se for aplicável aos BPss | Y4: Nome ou ID da ME ou Prestador de Serviço (consulte aba 0.Guia, seção g)
A5: Validação | B5: Nome Legal | C5: Gênero | D5: Número de Identificação Nacional (pessoa física = CPF pessoa jurídica = CNPJ) | E5: Identificador do lote de café (recibo CAR/código/ID) | F5: Cidade OU município | G5: Estado | H5: Latitude (-90 to 90) | I5: Longitude (-180 to 180) | J5: Permanente | K5: Temporário | L5: Produção total (sacas de 60kg) | M5: Área com produção de café (ha) | N5: Rendimento médio (sacas/ha) | O5: Arábica % | P5: Robusta % | Q5: Rainforest Alliance | R5: UTZ | S5: Fairtrade | T5: Organic | U5: C.A.F.E. Practices | V5: Nespresso AAA | W5: Certifica Minas Café | X5: Outras Certificações | Y5: Entrega café para (fluxo físico do café) | Z5: Vende café para (fluxo comercial do café) | AA5: Visitado e Auditado (x)
A6: Validation | B6: Legal Name | C6: Gender | D6: National Identification Number | E6: Farm Name | F6: City | G6: State | H6: Latitude | I6: Longitude | J6: Permanent | K6: Temporary | L6: Total production | M6: Coffee Production Area (ha) | N6: Average Yield | O6: Arabica % | P6: Robusta % | Q6: Rainforest Alliance | R6: UTZ | S6: Fairtrade | T6: Organic | U6: C.A.F.E. Practices | V6: Nespresso AAA | W6: Certifica Minas Café | X6: Other Certifications | Y6: Delivering to | Z6: Selling to | AA6: Visited
A7: =IF(AND(tblProducer[[#This Row],[Legal Name]]="",tblProducer[[#This Row],[National Identification Number]]=""),"",IF(OR(tblProducer[[#This Row],[Gender]]="",tblProducer[[#This Row],[National Identification Number]]="",tblProducer[[#This Row],[Farm Name]]="",tblProducer[[#This Row],[City]]="",tblProducer[[#This Row],[State]]="",tblProducer[[#This Row],[Latitude]]="",tblProducer[[#This Row],[Longitude]]="",tblProducer[[#This Row],[Permanent]]="",tblProducer[[#This Row],[Temporary]]="",tblProducer[[#This Row],[Total production]]="",tblProducer[[#This Row],[Arabica %]]="",tblProducer[[#This Row],[Coffee Production Area (ha)]]="",tblProducer[[#This Row],[Delivering to]]=""),"ERR","OK")) | N7: =IFERROR(tblProducer[[#This Row],[Total production]]/tblProducer[[#This Row],[Coffee Production Area (ha)]],"") | P7: =IF(tblProducer[[#This Row],[Arabica %]]<>"",1-tblProducer[[#This Row],[Arabica %]],"")
A8: =IF(AND(tblProducer[[#This Row],[Legal Name]]="",tblProducer[[#This Row],[National Identification Number]]=""),"",IF(OR(tblProducer[[#This Row],[Gender]]="",tblProducer[[#This Row],[National Identification Number]]="",tblProducer[[#This Row],[Farm Name]]="",tblProducer[[#This Row],[City]]="",tblProducer[[#This Row],[State]]="",tblProducer[[#This Row],[Latitude]]="",tblProducer[[#This Row],[Longitude]]="",tblProducer[[#This Row],[Permanent]]="",tblProducer[[#This Row],[Temporary]]="",tblProducer[[#This Row],[Total production]]="",tblProducer[[#This Row],[Arabica %]]="",tblProducer[[#This Row],[Coffee Production Area (ha)]]="",tblProducer[[#This Row],[Delivering to]]=""),"ERR","OK")) | N8: =IFERROR(tblProducer[[#This Row],[Total production]]/tblProducer[[#This Row],[Coffee Production Area (ha)]],"") | P8: =IF(tblProducer[[#This Row],[Arabica %]]<>"",1-tblProducer[[#This Row],[Arabica %]],"")
A9: =IF(AND(tblProducer[[#This Row],[Legal Name]]="",tblProducer[[#This Row],[National Identification Number]]=""),"",IF(OR(tblProducer[[#This Row],[Gender]]="",tblProducer[[#This Row],[National Identification Number]]="",tblProducer[[#This Row],[Farm Name]]="",tblProducer[[#This Row],[City]]="",tblProducer[[#This Row],[State]]="",tblProducer[[#This Row],[Latitude]]="",tblProducer[[#This Row],[Longitude]]="",tblProducer[[#This Row],[Permanent]]="",tblProducer[[#This Row],[Temporary]]="",tblProducer[[#This Row],[Total production]]="",tblProducer[[#This Row],[Arabica %]]="",tblProducer[[#This Row],[Coffee Production Area (ha)]]="",tblProducer[[#This Row],[Delivering to]]=""),"ERR","OK")) | N9: =IFERROR(tblProducer[[#This Row],[Total production]]/tblProducer[[#This Row],[Coffee Production Area (ha)]],"") | P9: =IF(tblProducer[[#This Row],[Arabica %]]<>"",1-tblProducer[[#This Row],[Arabica %]],"")

Sheet dropdowns_hidden
A1: Dropdown lists
A2: Type of Audit | B2: ME Main Activity | C2: Gender | D2: PostHarvest
A3: Initial | B3: Cooperative | C3: male | D3: wet
A4: Recertification | B4: Exporter | C4: female | D4: dry
A5: Addendum | B5: Producer Group | C5: m | D5: wet/dry
A6: Surveillance audit | B6: Roaster | C6: f
A7: Unannounced audit | B7: Single Producer | C7: N/A
A8: Annual Update 1 | B8: Trader
A9: Annual Update 2
A18: Service Provider Count | B18: {=MATCH(TRUE,ISBLANK('2. ME & Service Provider'!B7:B500),0)-1} -> 1
A19: SP columns | B19: 23
A20: Producer Count | B20: {=MATCH(TRUE,ISBLANK('3. Producer'!B7:B50000),0)-1} -> 0
A21: Producer Columns | B21: 26
